BEGIN:VCALENDAR
VERSION:2.0
PRODID:icalendar-ruby
CALSCALE:GREGORIAN
METHOD:PUBLISH
BEGIN:VEVENT
DTSTAMP:20260419T151034Z
UID:18-1070055@tbcin.org
DTSTART:20261021T230000Z
DTEND:20261022T000000Z
CLASS:PUBLIC
CREATED:20260419T083221
DESCRIPTION:
LAST-MODIFIED:20260419T083221
LOCATION:
SUMMARY:Mid-Week Service
URL;VALUE=URI:https://tbcin.org/events/mid-week-service/2026-10-21
ATTACH;FILENAME=people-3120717_1280.jpg;FMTTYPE=image/jpeg:https://dq5pwpg1
 q8ru0.cloudfront.net/2023/10/30/09/23/47/3b4ef978-3ed5-4a85-ab84-8d4431c76
 5ec/people-3120717_1280.jpg
END:VEVENT
END:VCALENDAR
