BEGIN:VCALENDAR
VERSION:2.0
PRODID:icalendar-ruby
CALSCALE:GREGORIAN
METHOD:PUBLISH
BEGIN:VEVENT
DTSTAMP:20260421T115433Z
UID:14-1080971@tbcin.org
DTSTART:20261015T103000Z
DTEND:20261015T113000Z
CLASS:PUBLIC
CREATED:20260421T074636
DESCRIPTION:
LAST-MODIFIED:20260421T074636
LOCATION:763 E Tournament Trail\, Westfield\, IN 46074
SUMMARY:Men's Bible Study
URL;VALUE=URI:https://tbcin.org/events/mens-bible-study/2026-10-15
ATTACH;FILENAME=hands-3457909_1280.jpg;FMTTYPE=image/jpeg:https://dq5pwpg1q
 8ru0.cloudfront.net/2023/10/30/09/16/00/1e0d6d5e-6e66-46d6-9ebc-a86f631654
 c6/hands-3457909_1280.jpg
END:VEVENT
END:VCALENDAR
